BEGIN:VCALENDAR
VERSION:2.0
PRODID:-//Officine Artistiche APSSD - ECPv6.15.11//NONSGML v1.0//EN
CALSCALE:GREGORIAN
METHOD:PUBLISH
X-WR-CALNAME:Officine Artistiche APSSD
X-ORIGINAL-URL:https://www.officineartistiche.it
X-WR-CALDESC:Eventi per Officine Artistiche APSSD
REFRESH-INTERVAL;VALUE=DURATION:PT1H
X-Robots-Tag:noindex
X-PUBLISHED-TTL:PT1H
BEGIN:VTIMEZONE
TZID:Europe/Helsinki
BEGIN:DAYLIGHT
TZOFFSETFROM:+0200
TZOFFSETTO:+0300
TZNAME:EEST
DTSTART:20190331T010000
END:DAYLIGHT
BEGIN:STANDARD
TZOFFSETFROM:+0300
TZOFFSETTO:+0200
TZNAME:EET
DTSTART:20191027T010000
END:STANDARD
BEGIN:DAYLIGHT
TZOFFSETFROM:+0200
TZOFFSETTO:+0300
TZNAME:EEST
DTSTART:20200329T010000
END:DAYLIGHT
BEGIN:STANDARD
TZOFFSETFROM:+0300
TZOFFSETTO:+0200
TZNAME:EET
DTSTART:20201025T010000
END:STANDARD
BEGIN:DAYLIGHT
TZOFFSETFROM:+0200
TZOFFSETTO:+0300
TZNAME:EEST
DTSTART:20210328T010000
END:DAYLIGHT
BEGIN:STANDARD
TZOFFSETFROM:+0300
TZOFFSETTO:+0200
TZNAME:EET
DTSTART:20211031T010000
END:STANDARD
END:VTIMEZONE
BEGIN:VEVENT
DTSTART;TZID=Europe/Helsinki:20200418T153000
DTEND;TZID=Europe/Helsinki:20200419T153000
DTSTAMP:20260424T065849
CREATED:20191217T073733Z
LAST-MODIFIED:20200415T113704Z
UID:3977-1587223800-1587310200@www.officineartistiche.it
SUMMARY:(ANNULLATO) Stage di PERCUSSIONI AFRICANE con MOHAMED CAMARA (Guinea)
DESCRIPTION:ATTENZIONE\, EVENTO ANNULLATO.\nA fronte dell’ordinanza del Ministero della Salute siamo purtroppo costretti a rimandare l’evento a data da destinarsi.\n\nChi é Mohamed Camara?\nNato nella regione di Kindia (Guinea) Mohamed Camara appartiene ad una grande famiglia di Griot. Ha collaborato con diversi gruppi : «L’etoile de Kanya»\, «Orchestre Préfectoral»\, «Wamali Percussions» ; suona regolarmente con i «Benkadi» e «Africamandingue de Guinee». Trasferitosi in Francia dal 2009 tiene regolarmente corsi e stage di percussioni\, balafon e krin.  \nLivelli\nLiv.1 Principianti / Intermedi (4 ore totali! )\nLiv.2 Intermedi/Avanzati (4 ore totali! ) \nOrari (da confermare)\nSabato\nLiv. 1 / 15.30 – 17.30\nLiv.2 / 18.00 – 20.00\nDomenica\nLiv.1 / 10.30 – 12.30\nLiv.2 / 13.30 – 15.30 \nPer costi e prenotazioni\ninfo@officineartistiche.it\nFacebook: Officine Artistiche Trieste\n+39 338 9861752 (Donatella)\n+39 335 1776757 (Luca) \nAttività riservata ai soci dell’ACSD Officine Artistiche.
URL:https://www.officineartistiche.it/events/stage-di-percussioni-africane-con-mohamed-camara-guinea/
LOCATION:Palestra Succursale Scuola Carducci\, Via Corsi\,1\, Trieste\, 34100\, Italia
ATTACH;FMTTYPE=image/jpeg:https://www.officineartistiche.it/wp-content/uploads/2019/12/Flyer2019-11_MohamedCamara.jpg
END:VEVENT
END:VCALENDAR