BEGIN:VCALENDAR
VERSION:2.0
PRODID:-//Officine Artistiche APSSD - ECPv6.15.11//NONSGML v1.0//EN
CALSCALE:GREGORIAN
METHOD:PUBLISH
X-ORIGINAL-URL:https://www.officineartistiche.it
X-WR-CALDESC:Eventi per Officine Artistiche APSSD
REFRESH-INTERVAL;VALUE=DURATION:PT1H
X-Robots-Tag:noindex
X-PUBLISHED-TTL:PT1H
BEGIN:VTIMEZONE
TZID:Europe/Helsinki
BEGIN:DAYLIGHT
TZOFFSETFROM:+0200
TZOFFSETTO:+0300
TZNAME:EEST
DTSTART:20190331T010000
END:DAYLIGHT
BEGIN:STANDARD
TZOFFSETFROM:+0300
TZOFFSETTO:+0200
TZNAME:EET
DTSTART:20191027T010000
END:STANDARD
BEGIN:DAYLIGHT
TZOFFSETFROM:+0200
TZOFFSETTO:+0300
TZNAME:EEST
DTSTART:20200329T010000
END:DAYLIGHT
BEGIN:STANDARD
TZOFFSETFROM:+0300
TZOFFSETTO:+0200
TZNAME:EET
DTSTART:20201025T010000
END:STANDARD
BEGIN:DAYLIGHT
TZOFFSETFROM:+0200
TZOFFSETTO:+0300
TZNAME:EEST
DTSTART:20210328T010000
END:DAYLIGHT
BEGIN:STANDARD
TZOFFSETFROM:+0300
TZOFFSETTO:+0200
TZNAME:EET
DTSTART:20211031T010000
END:STANDARD
END:VTIMEZONE
BEGIN:VEVENT
DTSTART;TZID=Europe/Helsinki:20200229T151500
DTEND;TZID=Europe/Helsinki:20200229T205500
DTSTAMP:20260424T093701
CREATED:20191208T100445Z
LAST-MODIFIED:20200227T083607Z
UID:3969-1582989300-1583009700@www.officineartistiche.it
SUMMARY:Officine Nogon Fést!
DESCRIPTION:ATTENZIONE\, EVENTO ANNULLATO.\nA fronte dell’ordinanza del Ministero della Salute siamo purtroppo costretti a rimandare l’evento a data da destinarsi.\nUna giornata per provare le attività di Officine Artistiche e conoscere i nostri insegnanti\, con la gradita partecipazione di Giulia Ceolin. Un’occasione unica per scoprire un mondo nuovo\, vibrante di energia e al ritmo delle percussioni dal vivo. Porta un’amico e condividi un pomeriggio di energia e divertimento! \n \n15.15 > 16.15 – PERCUSSIONI AFRICANE (necessaria la prenotazione) \n16.25 > 17.25 – DUNDUN DANSE (necessaria la prenotazione) \n17.35 > 18.35 – AFRO MOTION \n18.45 > 19.45 – DANZA AFRICANA \n19.55 > 20.55 – DANZA AFRO-CONTEMPORANEA \n \nPERCUSSIONI AFRICANE \nCon Paolo Galimberti e Luca Zugna. Per apprendere la tecnica del djembe e dei dundun attraverso le poliritmie africane. Sviluppare il senso del ritmo. Divertirsi suonando assieme agli altri. \nDUNDUN DANSE \nCon Donatella Bolognini. La “danza sui tamburi bassi”\, in cui far suonare un tamburo mentre contemporaneamente si eseguono dei passi di danza. Uno stile unico tipico dei Ballet africani. \nAFRO MOTION \nCon Donatella Bolognini. Ideale per il benessere\, lo sviluppo delle potenzialità corporee e per mantenere la forma fisica\, attraverso l’uso di esercizi di stretching e di potenziamento muscolare. \nDANZA D’ESPRESSIONE AFRICANA \nCon Donatella Bolognini e Valentina Albertini. Un percorso esplorativo che parte dall’apprendimento della tecnica e della gestualità africana per arrivare ad una personale espressività e creatività. \nDANZA AFRO-CONTEMPORANEA \nCon Giulia Ceolin. Assaggio di danza afro-contemporanea per coniugare la matrice africana\, nello specifico Guinea\, con il proprio gusto\, ricerca\, stile. \nDOVE \nc/o palestra succ. Carducci \nvia Corsi 1 – Trieste \nPER INFORMAZIONI \ninfo@officineartistiche.it \n338.9861752 (Donatella)
URL:https://www.officineartistiche.it/events/officine-nogon-fest-2020/
LOCATION:Udine
CATEGORIES:Laboratori
ATTACH;FMTTYPE=image/jpeg:https://www.officineartistiche.it/wp-content/uploads/2019/12/Flyer2019-06_NogonFest.jpg
END:VEVENT
END:VCALENDAR