BEGIN:VCALENDAR
VERSION:2.0
PRODID:-//Officine Artistiche APSSD - ECPv6.15.11//NONSGML v1.0//EN
CALSCALE:GREGORIAN
METHOD:PUBLISH
X-ORIGINAL-URL:https://www.officineartistiche.it
X-WR-CALDESC:Eventi per Officine Artistiche APSSD
REFRESH-INTERVAL;VALUE=DURATION:PT1H
X-Robots-Tag:noindex
X-PUBLISHED-TTL:PT1H
BEGIN:VTIMEZONE
TZID:Europe/Helsinki
BEGIN:DAYLIGHT
TZOFFSETFROM:+0200
TZOFFSETTO:+0300
TZNAME:EEST
DTSTART:20180325T010000
END:DAYLIGHT
BEGIN:STANDARD
TZOFFSETFROM:+0300
TZOFFSETTO:+0200
TZNAME:EET
DTSTART:20181028T010000
END:STANDARD
BEGIN:DAYLIGHT
TZOFFSETFROM:+0200
TZOFFSETTO:+0300
TZNAME:EEST
DTSTART:20190331T010000
END:DAYLIGHT
BEGIN:STANDARD
TZOFFSETFROM:+0300
TZOFFSETTO:+0200
TZNAME:EET
DTSTART:20191027T010000
END:STANDARD
BEGIN:DAYLIGHT
TZOFFSETFROM:+0200
TZOFFSETTO:+0300
TZNAME:EEST
DTSTART:20200329T010000
END:DAYLIGHT
BEGIN:STANDARD
TZOFFSETFROM:+0300
TZOFFSETTO:+0200
TZNAME:EET
DTSTART:20201025T010000
END:STANDARD
END:VTIMEZONE
BEGIN:VEVENT
DTSTART;VALUE=DATE:20190923
DTEND;VALUE=DATE:20190927
DTSTAMP:20260424T154624
CREATED:20190830T151722Z
LAST-MODIFIED:20190921T103928Z
UID:3698-1569196800-1569542399@www.officineartistiche.it
SUMMARY:OFFICINE OPEN WEEK! Lezioni aperte per tutti
DESCRIPTION:Vieni a provare tutte le attività con gli insegnanti\, i musicisti e il resto della family di Officine Artistiche! \n  \n QUANDO? DOVE? \nDal 23 al 26 Settembre 2019\n(a fondo pagina troverai gli orari e le location)\nLa lezione aperta del Laboratorio Ritmico si terrà il 30 Settembre.\nLe attività inizieranno regolarmente a partire dal 30 Settembre 2019. \nDanza d’espressione africana \nDanzare e lasciarsi andare al ritmo delle percussioni dal vivo! Un percorso esplorativo e pieno di energia\, che parte dall’apprendimento della tecnica e della gestualità africana per arrivare ad una personale espressività e creatività. \nPercussioni africane\nSuonare e divertirsi divenendo parte di un grande ed energico cerchio di tamburi. Sviluppare la capacità di ascolto\, il senso del ritmo e la coordinazione motoria\, imparando la tecnica del djembe e dei tamburi bassi attraverso le poliritmie tipiche dell’Africa occidentale. \nDunDun Danse\nL’unione perfetta tra le percussioni e la danza\, in un’unica coinvolgente disciplina nata nei balletti del west Africa. Danzare e suonare contemporaneamente\, sempre accompagnati dalla musica dal vivo\, affinando la gestualità e le capacità ritmiche. \nLaboratorio Ritmico (open day il 30 Settembre)\nSviluppare una maggiore coscienza dello stretto legame tra i linguaggi della musica e della danza. Imparare ad eseguire ai tamburi bassi le poliritmie tradizionali analizzando i movimenti tipici delle danze che le accompagnano. \nLaboratorio coreografico\nUn percorso di sperimentazione di nuovi linguaggi espressivi che traggono spunto dalla danza africana e dalla danza afro-contemporanea\, ma che si arricchiscono di altre forme artistiche \nLaboratorio di danza africana e afrocubana\nAlla ricerca del sentire fisico ed emozionale\, attingendo al linguaggio della danza e dei ritmi africani ed afro-cubani. Riscoprire le radici del movimento\, attraverso un lavoro di ascolto e di consapevolezza\, per permettere allo spazio interiore di esprimersi danzando. \nAfro Motion\nUn lavoro di conoscenza e preparazione corporea. Dedicato all’ ascolto e al risveglio della colonna vertebrale e delle articolazioni\, all’appoggio del piede\, al movimento dello sterno e del bacino. Ideale per lo sviluppo delle potenzialità corporee e per mantenere la forma fisica\, senza alcun obiettivo coreografico.
URL:https://www.officineartistiche.it/events/officine-open-week-lezioni-aperte-per-tutti/
LOCATION:Udine
CATEGORIES:Laboratori
ATTACH;FMTTYPE=image/jpeg:https://www.officineartistiche.it/wp-content/uploads/2019/08/FotodiGruppo.jpg
END:VEVENT
END:VCALENDAR