BEGIN:VCALENDAR
VERSION:2.0
PRODID:-//Officine Artistiche APSSD - ECPv6.15.11//NONSGML v1.0//EN
CALSCALE:GREGORIAN
METHOD:PUBLISH
X-WR-CALNAME:Officine Artistiche APSSD
X-ORIGINAL-URL:https://www.officineartistiche.it
X-WR-CALDESC:Eventi per Officine Artistiche APSSD
REFRESH-INTERVAL;VALUE=DURATION:PT1H
X-Robots-Tag:noindex
X-PUBLISHED-TTL:PT1H
BEGIN:VTIMEZONE
TZID:Europe/Helsinki
BEGIN:DAYLIGHT
TZOFFSETFROM:+0200
TZOFFSETTO:+0300
TZNAME:EEST
DTSTART:20180325T010000
END:DAYLIGHT
BEGIN:STANDARD
TZOFFSETFROM:+0300
TZOFFSETTO:+0200
TZNAME:EET
DTSTART:20181028T010000
END:STANDARD
BEGIN:DAYLIGHT
TZOFFSETFROM:+0200
TZOFFSETTO:+0300
TZNAME:EEST
DTSTART:20190331T010000
END:DAYLIGHT
BEGIN:STANDARD
TZOFFSETFROM:+0300
TZOFFSETTO:+0200
TZNAME:EET
DTSTART:20191027T010000
END:STANDARD
BEGIN:DAYLIGHT
TZOFFSETFROM:+0200
TZOFFSETTO:+0300
TZNAME:EEST
DTSTART:20200329T010000
END:DAYLIGHT
BEGIN:STANDARD
TZOFFSETFROM:+0300
TZOFFSETTO:+0200
TZNAME:EET
DTSTART:20201025T010000
END:STANDARD
END:VTIMEZONE
BEGIN:VEVENT
DTSTART;TZID=Europe/Helsinki:20190126T150000
DTEND;TZID=Europe/Helsinki:20190126T200000
DTSTAMP:20260425T031423
CREATED:20190102T171419Z
LAST-MODIFIED:20190102T195624Z
UID:3375-1548514800-1548532800@www.officineartistiche.it
SUMMARY:OPEN DAY! Vieni a provare le attività di Officine Artistiche
DESCRIPTION:Una giornata per provare le attività di Officine Artistiche e conoscere i nostri insegnanti. Un’occasione unica per scoprire un mondo nuovo\, vibrante di energia e al ritmo delle percussioni dal vivo. Porta un’amico e condividi un pomeriggio di energia e divertimento!\n15.30 > 16.30 – PERCUSSIONI AFRICANE\n16.45 > 17.45 – DUNDUN DANSE\n18.00 > 19.00 – DANZA D’ESPRESSIONE AFRICANA\n19.15 > 20.15 – DANZA AFRICANA ED AFRO-CUBANA \nPERCUSSIONI AFRICANE\nCon Paolo Galimberti. Per apprendere la tecnica del djembe e dei dundun attraverso le poliritmie africane. Sviluppare il senso del ritmo. Divertirsi suonando assieme agli altri. \nDUNDUN DANSE\nCon Donatella Bolognini. La “danza sui tamburi bassi”\, in cui far suonare un tamburo mentre contemporaneamente si eseguono dei passi di danza. Uno stile unico tipico dei Ballet africani. \nDANZA D’ESPRESSIONE AFRICANA\nCon Donatella Bolognini e Valentina Albertini. Un percorso esplorativo che parte dall’apprendimento della tecnica e della gestualità africana per arrivare ad una personale espressività e creatività. \nDANZA AFRICANA ED AFRO-CUBANA\nCon Donatella Bolognini. Un percorso di ricerca del sentire fisico ed emozionale attingendo al linguaggio della danza e dei ritmi africani ed afro-cubani. Riscoprire le radici del movimento\, attraverso un lavoro di ascolto e di consapevolezza\, per permettere allo spazio interiore di esprimersi danzando. \nDOVE\nc/o palestra succ. Carducci\nvia Corsi 1 – Trieste \nPER INFORMAZIONI\ninfo@officineartistiche.it\n338.9861752 (Donatella)
URL:https://www.officineartistiche.it/events/open-day-vieni-a-provare-le-attivita-di-officine-artistiche-2/
LOCATION:Palestra Succursale Scuola Carducci\, Via Corsi\,1\, Trieste\, 34100\, Italia
CATEGORIES:Stage
ATTACH;FMTTYPE=image/jpeg:https://www.officineartistiche.it/wp-content/uploads/2019/01/OpenDay_2019.jpg
END:VEVENT
END:VCALENDAR