BEGIN:VCALENDAR
VERSION:2.0
PRODID:-//Officine Artistiche APSSD - ECPv6.15.11//NONSGML v1.0//EN
CALSCALE:GREGORIAN
METHOD:PUBLISH
X-ORIGINAL-URL:https://www.officineartistiche.it
X-WR-CALDESC:Eventi per Officine Artistiche APSSD
REFRESH-INTERVAL;VALUE=DURATION:PT1H
X-Robots-Tag:noindex
X-PUBLISHED-TTL:PT1H
BEGIN:VTIMEZONE
TZID:Europe/Helsinki
BEGIN:DAYLIGHT
TZOFFSETFROM:+0200
TZOFFSETTO:+0300
TZNAME:EEST
DTSTART:20170326T010000
END:DAYLIGHT
BEGIN:STANDARD
TZOFFSETFROM:+0300
TZOFFSETTO:+0200
TZNAME:EET
DTSTART:20171029T010000
END:STANDARD
BEGIN:DAYLIGHT
TZOFFSETFROM:+0200
TZOFFSETTO:+0300
TZNAME:EEST
DTSTART:20180325T010000
END:DAYLIGHT
BEGIN:STANDARD
TZOFFSETFROM:+0300
TZOFFSETTO:+0200
TZNAME:EET
DTSTART:20181028T010000
END:STANDARD
BEGIN:DAYLIGHT
TZOFFSETFROM:+0200
TZOFFSETTO:+0300
TZNAME:EEST
DTSTART:20190331T010000
END:DAYLIGHT
BEGIN:STANDARD
TZOFFSETFROM:+0300
TZOFFSETTO:+0200
TZNAME:EET
DTSTART:20191027T010000
END:STANDARD
END:VTIMEZONE
BEGIN:VEVENT
DTSTART;TZID=Europe/Helsinki:20180505T163000
DTEND;TZID=Europe/Helsinki:20180506T140000
DTSTAMP:20260425T141030
CREATED:20180326T131820Z
LAST-MODIFIED:20180326T131820Z
UID:3134-1525537800-1525615200@www.officineartistiche.it
SUMMARY:Atelier di ricerca su danza e musica con Giulia Ceolin - Terzo incontro
DESCRIPTION:LA LUNA CHE NON SI VEDE\nTerzo ed ultimo incontro con il breve atelier di ricerca su danza e musica con Giulia Ceolin e musica dal vivo\nL’istinto come sede primaria di centratura.\nLaboratorio di ricerca sulla danza\, sulla danza afro e sul suono strutturato in tre incontri con esibizione finale.\nDress code: gradito il total black. \nDATE DEGLI INCONTRI \n1° Incontro. Sabato e domenica 27 e 28 gennaio 2018\n 2° Incontro. Sabato e domenica 24 e 25 marzo 2018\n3° Incontro. Sabato e domenica 5 e 6 maggio 2018 \nORARI\nSabato 16\,30 – 19\,30\nDomenica 11\,00 – 14\,00 \nDOVE\nc/o palestra succ. Carducci\nvia Corsi 1 – Trieste \nPER INFORMAZIONI\ninfo@officineartistiche.it\n338.9861752 (Donatella) \nCHI É GIULIA CEOLIN?\nNata nel 1983 a Monfalcone (GO)\, comincia la sua formazione in danza a tre anni con ginnastica ritmica\, jazz\, hip hop e danza classica. Nel 2000 in Irlanda incontra per la prima volta la danza africana e nello stesso anno comincia la formazione in questa disciplina. Studia in corsi e stage con vari insegnanti italiani e africani dal 2000 al 2005: Valentina Furlan\, Valeria Sengalli\, Monica Zazza\, M’Bemba Camara\, Ismail Bangoura\, Mama Adama Camara\, Bebe Djoula\, Fanta Camara\, Moustapha Bangoura per lo stile guineano\, Solo Djenaba Djedju e Yelly Thioune\, per il Senegal\, Gerard Diby\, Gregoire Tibè\, Hiug Hanoy ed Eveline Mambo per la Costa d’Avorio\, Brahima Coulibaly\, Merlin Nyakam\, Vincent Mantsoe\, Congo Bateria\, Norma Claire\, Koffi Koko\, Chantal Loial\, Vincent Haris Do\, Serge Some\, Simona Brunelli\, Chiara Martinoli per quanto riguarda le contaminazioni con altri stili\, per lo stile stile afro-cubano e afro-brasiliano stage periodici con Mano Amaro\, il Ballet de Camaguey\, il Goyo\, Franca Aimone e Adis Flores. Dal 2004 periodicamente si reca all’estero per viaggi studio in Africa\, Brasile e Cuba per approfondire gli studi tradizionali e dell’afro della diaspora. Frequenta la scuola di teatro Tangram\, Teatro di Torino e continua a lavorare con la compagnia Silvia Battaglio per  lo spettacolo “Io\, Lorenzo e Giulia”. \nFondamentali gli anni di formazione e lavoro nella compagnia “Kaidara Dance Company” di Bruno e Katina Genero a Torino con cui partecipa a vari spettacoli in Italia dal 2005 al 2011. In seno alla compagnia si sviluppa la sensibilità verso l’afro-contemporaneo e le nuove tecniche di ricerca teatrale e coreutica. Nel 2008 approfondisce la formazione di danza contemporanea e neoclassica lavorando in “Theverysecretdancesociety” di Raffaele Irace: “ULTRA” e “NERODINAMICO” vanno in scena tra il 2008 e il 2010 in vari festival nazionali ed internazionali. \nNel 2008 comincia la collaborazione con Chiara Martinoli per la sua creazione ” Uomini e dei” e successivamente per “Cocoon” insieme a Cheik Fall e Douda Djubate che debutta al Festival Jullietdanse in Svizzera. Nel 2010 inoltre collabora con la compagnia “Sowilo” di Simona Brunelli per lo spettacolo “Guarda”. Viene scelta come danzatrice per l’edizione 2011 di “Crossings”\, laboratorio di creazione coreografica a Johannesburg in Sudafrica diretta dal coreografo Vincent Sekwati Mantsoe e da Michel Kelemenis e nello stesso anno è selezionata dal Balletto dell’Esperia per  una performance di danza contemporanea di Tino Seghal presso il Museo di arte contemporanea Castello di Rivoli (To): comincia il percorso nelle arti performative che la portano ad incontrare Francesca Cola e Giorgio Bevilacqua con cui fonda il gruppo di ricerca VOLVON. Con VOLVON balla e produce ad oggi “L’Orlo del cominciamento”\, “Come se non ci fosse domani”\, “(pausa) – (pausa)”\, “We used to be lovers” e il live del cantautore Cosmo. \nNel 2009 comincia a sviluppare un proprio linguaggio di ricerca tra il teatro\, la danza africana e la danza contemporanea debuttando\, con il primo lavoro “Carmen”\, alla rassegna di gruppi afro al 3° Meeting nazionale di danza e musica africana a Rovigo seguito da “Le carmeliche”\, “Me per tre”\, “Omaggio alla dona che vola”\, “Baccanti”\, “Passardala”\, “La luce la carne”. \nAttualmente lavora come insegnate di afro e afro di ricerca a Ivrea\, Trieste\, Milano\, Firenze continuando la ricerca performativa con VOLVON e presso il suo centro ad Ivrea “Baobab”.
URL:https://www.officineartistiche.it/events/1-atelier-di-ricerca-su-danza-e-musica-con-giulia-ceolin-2-2/
LOCATION:Palestra Succursale Scuola Carducci\, Via Corsi\,1\, Trieste\, 34100\, Italia
CATEGORIES:Stage
ATTACH;FMTTYPE=image/jpeg:https://www.officineartistiche.it/wp-content/uploads/2018/03/Flyerweb_2017_18_Giulietta1.jpg
END:VEVENT
END:VCALENDAR