BEGIN:VCALENDAR
VERSION:2.0
PRODID:-//Officine Artistiche APSSD - ECPv6.15.11//NONSGML v1.0//EN
CALSCALE:GREGORIAN
METHOD:PUBLISH
X-WR-CALNAME:Officine Artistiche APSSD
X-ORIGINAL-URL:https://www.officineartistiche.it
X-WR-CALDESC:Eventi per Officine Artistiche APSSD
REFRESH-INTERVAL;VALUE=DURATION:PT1H
X-Robots-Tag:noindex
X-PUBLISHED-TTL:PT1H
BEGIN:VTIMEZONE
TZID:Europe/Helsinki
BEGIN:DAYLIGHT
TZOFFSETFROM:+0200
TZOFFSETTO:+0300
TZNAME:EEST
DTSTART:20160327T010000
END:DAYLIGHT
BEGIN:STANDARD
TZOFFSETFROM:+0300
TZOFFSETTO:+0200
TZNAME:EET
DTSTART:20161030T010000
END:STANDARD
BEGIN:DAYLIGHT
TZOFFSETFROM:+0200
TZOFFSETTO:+0300
TZNAME:EEST
DTSTART:20170326T010000
END:DAYLIGHT
BEGIN:STANDARD
TZOFFSETFROM:+0300
TZOFFSETTO:+0200
TZNAME:EET
DTSTART:20171029T010000
END:STANDARD
BEGIN:DAYLIGHT
TZOFFSETFROM:+0200
TZOFFSETTO:+0300
TZNAME:EEST
DTSTART:20180325T010000
END:DAYLIGHT
BEGIN:STANDARD
TZOFFSETFROM:+0300
TZOFFSETTO:+0200
TZNAME:EET
DTSTART:20181028T010000
END:STANDARD
END:VTIMEZONE
BEGIN:VEVENT
DTSTART;TZID=Europe/Helsinki:20170914T193000
DTEND;TZID=Europe/Helsinki:20170914T213000
DTSTAMP:20260426T005114
CREATED:20170912T163230Z
LAST-MODIFIED:20170912T171329Z
UID:3027-1505417400-1505424600@www.officineartistiche.it
SUMMARY:Danza e Percussioni africane per tutti all’Ausonia – 5° Appuntamento
DESCRIPTION:Anche per l’estate 2017 lo Stabilimento Balneare Ausonia ospita «Ausonia Energia Vitale»: due serate ogni settimana\, il martedì e il giovedì\, in cui lo stabilimento balneare Ausonia si caratterizzerà come punto d’incontro per il benessere a Trieste. \nLa ricca offerta di corsi e trattamenti e il calendario completo degli eventi è disponibile qui. \nPresente anche Officine Artistiche con i laboratori di danza africana e percussioni africane. \nGIOVEDÍ 12 SETTEMBRE \nDalle 19.30 alle 20.30 – Lezione di Danza Africana con Donatella Bolognini\nDalle 20.30 alle 21.30 – Lezione di Percussioni Africane con Luca Zugna \nI livelli sono aperti a tutti\, principianti\, meno principianti e curiosi. \nPer ogni lezione è richiesto un contributo di 5€
URL:https://www.officineartistiche.it/events/danza-percussioni-africane-tutti-allausonia-5-appuntamento/
LOCATION:Stabilimento balneare “Bagno Ausonia”\, Riva Traiana\, 1\, Trieste\, Italia
ATTACH;FMTTYPE=image/jpeg:https://www.officineartistiche.it/wp-content/uploads/2017/09/stg_Ausonia_DonaLuca_03.jpg
END:VEVENT
END:VCALENDAR